BEGIN:VCALENDAR
VERSION:2.0
PRODID:-//AAA Carolinas - ECPv5.1.6//NONSGML v1.0//EN
CALSCALE:GREGORIAN
METHOD:PUBLISH
X-WR-CALNAME:AAA Carolinas
X-ORIGINAL-URL:https://prod-carolinas-aaa-com.azurewebsites.net
X-WR-CALDESC:Events for AAA Carolinas
BEGIN:VTIMEZONE
TZID:America/New_York
BEGIN:DAYLIGHT
TZOFFSETFROM:-0500
TZOFFSETTO:-0400
TZNAME:EDT
DTSTART:20200308T070000
END:DAYLIGHT
BEGIN:STANDARD
TZOFFSETFROM:-0400
TZOFFSETTO:-0500
TZNAME:EST
DTSTART:20201101T060000
END:STANDARD
END:VTIMEZONE
BEGIN:VEVENT
DTSTART;TZID=America/New_York:20200901T150000
DTEND;TZID=America/New_York:20200901T160000
DTSTAMP:20260420T124413
CREATED:20200730T140527Z
LAST-MODIFIED:20200817T210303Z
UID:15131-1598972400-1598976000@prod-carolinas-aaa-com.azurewebsites.net
SUMMARY:Discover the Christmas Markets of Europe
DESCRIPTION:Join AAA Travel and Amawaterways as we cruise through the heart of Europe during the most festive time of year and experience the timeless tradition of its magical Christmas markets! \nAttend this FREE online travel event from the comfort of your home by registering here: https://register.gotowebinar.com/rt/3553528530958320911
URL:https://prod-carolinas-aaa-com.azurewebsites.net/event/christmas-markets-with-amawaterways/2020-09-01/
LOCATION:Online\, NC
ATTACH;FMTTYPE=image/jpeg:https://aaacdndev.blob.core.windows.net/wordpress/2020/07/cologne-christmas-market.jpg
END:VEVENT
END:VCALENDAR