BEGIN:VCALENDAR
VERSION:2.0
PRODID:-//AAA Carolinas - ECPv5.1.6//NONSGML v1.0//EN
CALSCALE:GREGORIAN
METHOD:PUBLISH
X-WR-CALNAME:AAA Carolinas
X-ORIGINAL-URL:https://prod-carolinas-aaa-com.azurewebsites.net
X-WR-CALDESC:Events for AAA Carolinas
BEGIN:VTIMEZONE
TZID:America/New_York
BEGIN:DAYLIGHT
TZOFFSETFROM:-0500
TZOFFSETTO:-0400
TZNAME:EDT
DTSTART:20200308T070000
END:DAYLIGHT
BEGIN:STANDARD
TZOFFSETFROM:-0400
TZOFFSETTO:-0500
TZNAME:EST
DTSTART:20201101T060000
END:STANDARD
END:VTIMEZONE
BEGIN:VEVENT
DTSTART;TZID=America/New_York:20200813T150000
DTEND;TZID=America/New_York:20200813T160000
DTSTAMP:20260421T080628
CREATED:20200730T131734Z
LAST-MODIFIED:20200804T202416Z
UID:15105-1597330800-1597334400@prod-carolinas-aaa-com.azurewebsites.net
SUMMARY:The River Cruise Experience
DESCRIPTION:Join AAA Travel and Amawaterways as we share our love for river cruising across the world! Enjoy learning about small group excursions to culturally immersive experiences along a luxury river cruise. \nAttend this FREE online travel event from the comfort of your home by registering here: https://register.gotowebinar.com/register/4633045539783145743
URL:https://prod-carolinas-aaa-com.azurewebsites.net/event/sailing-with-amawaterways/
LOCATION:Online\, NC
ATTACH;FMTTYPE=image/jpeg:https://aaacdndev.blob.core.windows.net/wordpress/2020/07/AmaWaterways-ship-.jpg
END:VEVENT
END:VCALENDAR