BEGIN:VCALENDAR
VERSION:2.0
PRODID:-//AAA Carolinas - ECPv5.1.6//NONSGML v1.0//EN
CALSCALE:GREGORIAN
METHOD:PUBLISH
X-WR-CALNAME:AAA Carolinas
X-ORIGINAL-URL:https://prod-carolinas-aaa-com.azurewebsites.net
X-WR-CALDESC:Events for AAA Carolinas
BEGIN:VTIMEZONE
TZID:America/New_York
BEGIN:DAYLIGHT
TZOFFSETFROM:-0500
TZOFFSETTO:-0400
TZNAME:EDT
DTSTART:20200308T070000
END:DAYLIGHT
BEGIN:STANDARD
TZOFFSETFROM:-0400
TZOFFSETTO:-0500
TZNAME:EST
DTSTART:20201101T060000
END:STANDARD
END:VTIMEZONE
BEGIN:VEVENT
DTSTART;TZID=America/New_York:20201208T150000
DTEND;TZID=America/New_York:20201208T160000
DTSTAMP:20260419T104609
CREATED:20201106T150101Z
LAST-MODIFIED:20201106T150101Z
UID:15940-1607439600-1607443200@prod-carolinas-aaa-com.azurewebsites.net
SUMMARY:Small Group Adventures
DESCRIPTION:Join AAA Travel and Club Adventures to learn about small group adventures that include a dedicated local leader\, flexible departure dates\, and customization itineraries! Learn how you can finally take that girls trip or family road trip in safe and fun way. \nRegister here: https://attendee.gotowebinar.com/register/5534210769611483406?source=Web
URL:https://prod-carolinas-aaa-com.azurewebsites.net/event/small-group-adventures/
ATTACH;FMTTYPE=image/png:https://aaacdndev.blob.core.windows.net/wordpress/2020/11/3.png
END:VEVENT
END:VCALENDAR